Workbook

Sheet Expenses
A1: Date | B1: What | C1: Amount | D1: Paid by | E1: Ana | F1: Ben | G1: Cleo | H1: Dan | I1: Split ways | J1: Each pays
A2: 2026-08-01 | B2: Rent | C2: 2400 | D2: Ana | E2: 1 | F2: 1 | G2: 1 | H2: 1 | I2: =COUNTIF(E2:H2,1) | J2: =IF(AND(I2>0,ISNUMBER(C2)),C2/I2,0)
A3: 2026-08-03 | B3: Groceries | C3: 142.6 | D3: Ben | E3: 1 | F3: 1 | G3: 1 | H3: 1 | I3: =COUNTIF(E3:H3,1) | J3: =IF(AND(I3>0,ISNUMBER(C3)),C3/I3,0)
A4: 2026-08-06 | B4: Concert tickets | C4: 180 | D4: Cleo | E4: 0 | F4: 1 | G4: 1 | H4: 0 | I4: =COUNTIF(E4:H4,1) | J4: =IF(AND(I4>0,ISNUMBER(C4)),C4/I4,0)
A5: 2026-08-09 | B5: Internet | C5: 60 | D5: Ana | E5: 1 | F5: 1 | G5: 1 | H5: 1 | I5: =COUNTIF(E5:H5,1) | J5: =IF(AND(I5>0,ISNUMBER(C5)),C5/I5,0)
I6: =COUNTIF(E6:H6,1) | J6: =IF(AND(I6>0,ISNUMBER(C6)),C6/I6,0)
I7: =COUNTIF(E7:H7,1) | J7: =IF(AND(I7>0,ISNUMBER(C7)),C7/I7,0)
I8: =COUNTIF(E8:H8,1) | J8: =IF(AND(I8>0,ISNUMBER(C8)),C8/I8,0)
I9: =COUNTIF(E9:H9,1) | J9: =IF(AND(I9>0,ISNUMBER(C9)),C9/I9,0)
I10: =COUNTIF(E10:H10,1) | J10: =IF(AND(I10>0,ISNUMBER(C10)),C10/I10,0)
I11: =COUNTIF(E11:H11,1) | J11: =IF(AND(I11>0,ISNUMBER(C11)),C11/I11,0)
I12: =COUNTIF(E12:H12,1) | J12: =IF(AND(I12>0,ISNUMBER(C12)),C12/I12,0)
I13: =COUNTIF(E13:H13,1) | J13: =IF(AND(I13>0,ISNUMBER(C13)),C13/I13,0)
I14: =COUNTIF(E14:H14,1) | J14: =IF(AND(I14>0,ISNUMBER(C14)),C14/I14,0)
I15: =COUNTIF(E15:H15,1) | J15: =IF(AND(I15>0,ISNUMBER(C15)),C15/I15,0)
I16: =COUNTIF(E16:H16,1) | J16: =IF(AND(I16>0,ISNUMBER(C16)),C16/I16,0)
I17: =COUNTIF(E17:H17,1) | J17: =IF(AND(I17>0,ISNUMBER(C17)),C17/I17,0)
... I200: =COUNTIF(E200:H200,1) | J200: =IF(AND(I200>0,ISNUMBER(C200)),C200/I200,0)
A202: Put a 1 under everyone who shares a row, and leave the others blank. Keep typing: the formulas already cover row 200.

Sheet People
A1: Name
A2: Ana
A3: Ben
A4: Cleo
A5: Dan
A7: Rename anybody here and the whole workbook follows, including the Expenses headers.

Sheet Who owes who
A1: Person | B1: Paid | C1: Their share | D1: Net
A2: =People!A2 | B2: =SUMIF(Expenses!$D$2:$D$200,$A2,Expenses!$C$2:$C$200) | C2: =SUMPRODUCT(Expenses!$E$2:$E$200,Expenses!$J$2:$J$200) | D2: =B2-C2
A3: =People!A3 | B3: =SUMIF(Expenses!$D$2:$D$200,$A3,Expenses!$C$2:$C$200) | C3: =SUMPRODUCT(Expenses!$F$2:$F$200,Expenses!$J$2:$J$200) | D3: =B3-C3
A4: =People!A4 | B4: =SUMIF(Expenses!$D$2:$D$200,$A4,Expenses!$C$2:$C$200) | C4: =SUMPRODUCT(Expenses!$G$2:$G$200,Expenses!$J$2:$J$200) | D4: =B4-C4
A5: =People!A5 | B5: =SUMIF(Expenses!$D$2:$D$200,$A5,Expenses!$C$2:$C$200) | C5: =SUMPRODUCT(Expenses!$H$2:$H$200,Expenses!$J$2:$J$200) | D5: =B5-C5
A6: Total | B6: =SUM(B2:B5) | C6: =SUM(C2:C5) | D6: =SUM(D2:D5)
A8: A positive Net means the group owes that person. Negative means they owe the group.
A9: The Total row must show $0.00 in the Net column. If it does not, a row is missing a payer or a 1.
A11: To settle: pay from the most negative person to the most positive, then repeat.
A12: A spreadsheet cannot work out the fewest payments for you. That part is on the page you got this from.
